BEGIN:VCALENDAR
VERSION:2.0
PRODID:-// - ECPv6.3.6//NONSGML v1.0//EN
CALSCALE:GREGORIAN
METHOD:PUBLISH
X-ORIGINAL-URL:https://www.duomofirenze.it
X-WR-CALDESC:Eventi per 
REFRESH-INTERVAL;VALUE=DURATION:PT1H
X-Robots-Tag:noindex
X-PUBLISHED-TTL:PT1H
BEGIN:VTIMEZONE
TZID:UTC
BEGIN:STANDARD
TZOFFSETFROM:+0000
TZOFFSETTO:+0000
TZNAME:UTC
DTSTART:20230101T000000
END:STANDARD
END:VTIMEZONE
BEGIN:VEVENT
DTSTART;VALUE=DATE:20241229
DTEND;VALUE=DATE:20241230
DTSTAMP:20260423T201347
CREATED:20241223T104158Z
LAST-MODIFIED:20241223T104158Z
UID:3400-1735430400-1735516799@www.duomofirenze.it
SUMMARY:Apertura Diocesana del Giubileo 2025
DESCRIPTION:Domenica 29 dicembre 2024 – ore 16\nApertura Diocesana\ndel Giubileo 2025\nP.zza Ss. Annunziata – Inizio Celebrazione\nPellegrinaggio verso la Cattedrale\nCelebrazione eucaristica \nApertura diocesana Giubileo
URL:https://www.duomofirenze.it/event/apertura-diocesana-del-giubileo-2025/
ATTACH;FMTTYPE=image/jpeg:https://www.duomofirenze.it/wp-content/uploads/2023/03/Santa-Maria-Del-Fiore-Altare-Crocifisso-Benedetto-da-Maiano-e-Seduta-scaled.jpg
END:VEVENT
BEGIN:VEVENT
DTSTART;VALUE=DATE:20241224
DTEND;VALUE=DATE:20250107
DTSTAMP:20260423T201347
CREATED:20241216T161555Z
LAST-MODIFIED:20241223T104307Z
UID:3384-1734998400-1736207999@www.duomofirenze.it
SUMMARY:Tempo Natalizio 2024
DESCRIPTION:Tempo Natalizio\nTutte le celebrazioni alla pagina:\nhttps://www.duomofirenze.it/orario-celebrazioni-duomo-di-firenze/ \n 
URL:https://www.duomofirenze.it/event/tempo-natalizio-2024/
ATTACH;FMTTYPE=image/jpeg:https://www.duomofirenze.it/wp-content/uploads/2024/12/Nativity-scene-with-Jesus-Joseph-Mary-the-donkey-the-ox-the-shepherds-and-the-angels.jpg
END:VEVENT
BEGIN:VEVENT
DTSTART;VALUE=DATE:20240929
DTEND;VALUE=DATE:20240930
DTSTAMP:20260423T201347
CREATED:20240905T142109Z
LAST-MODIFIED:20240905T142109Z
UID:3353-1727568000-1727654399@www.duomofirenze.it
SUMMARY:Da una tenda all'altra e da una dimora all'altra (1 Cr 17\,5)
DESCRIPTION:Giornata Mondiale del Migrante e del Rifugiato \nApertura dell’Anno Pastorale 2024-2025 e mandato agli animatori pastorali \nCattedrale di Santa Maria del Fiore \nore 15 Riflessione del Vescovo Gherardo e gruppi di condivisione in stile sinodale\nore 18 Celebrazione eucaristica con mandato agli animatori pastorali
URL:https://www.duomofirenze.it/event/da-una-tenda-allaltra-e-da-una-dimora-allaltra-1-cr-175/
LOCATION:firenze\, Piazza Duomo 1\, Firenze\, Italia
ATTACH;FMTTYPE=image/jpeg:https://www.duomofirenze.it/wp-content/uploads/2024/09/DaUnaTendaAllaltra.jpg
END:VEVENT
BEGIN:VEVENT
DTSTART;VALUE=DATE:20240530
DTEND;VALUE=DATE:20240531
DTSTAMP:20260423T201347
CREATED:20240529T101510Z
LAST-MODIFIED:20240529T101510Z
UID:3298-1717027200-1717113599@www.duomofirenze.it
SUMMARY:Processione del Corpus Domini
DESCRIPTION:S. Messa Ore 20.30\nCelebra il Card. Giuseppe Betori \nSegue la Processione Eucaristica \nItinerario: \nUscita dalla porta centrale del Duomo\,\nPiazza San Giovanni\, Piazza Duomo. \nConclusione in cattedrale\nBENEDIZIONE EUCARISTICA \n 
URL:https://www.duomofirenze.it/event/processione-del-corpus-domini/
ATTACH;FMTTYPE=image/jpeg:https://www.duomofirenze.it/wp-content/uploads/2023/05/CorpusDomini.jpg
END:VEVENT
BEGIN:VEVENT
DTSTART;VALUE=DATE:20240331
DTEND;VALUE=DATE:20240401
DTSTAMP:20260423T201347
CREATED:20240304T144540Z
LAST-MODIFIED:20240304T145141Z
UID:3246-1711843200-1711929599@www.duomofirenze.it
SUMMARY:Domenica di Pasqua
DESCRIPTION:Ore 10.15   In Battistero: Ora terza – Processione introitale – Aspersione \nOre 11.00   In Cattedrale: concelebrazione eucaristica – Al “Gloria” tradizionale “Scoppio del carro”; benedizione papale con indulgenza plenaria \nOre 17.15    Vespri cantati \nOre 18.00  S. Messa \nParteciperà alle celebrazioni con il canto: \nla “Cappella Musicale della Cattedrale di Santa Maria del Fiore” \nCelebrazioni presiedute dal Cardinale Arcivescovo
URL:https://www.duomofirenze.it/event/domenica-di-pasqua/
CATEGORIES:Celebrazioni
ATTACH;FMTTYPE=image/jpeg:https://www.duomofirenze.it/wp-content/uploads/2022/03/Veglia_Pasqua.jpg
END:VEVENT
BEGIN:VEVENT
DTSTART;VALUE=DATE:20240330
DTEND;VALUE=DATE:20240331
DTSTAMP:20260423T201347
CREATED:20240304T144414Z
LAST-MODIFIED:20240304T145145Z
UID:3243-1711756800-1711843199@www.duomofirenze.it
SUMMARY:Sabato Santo
DESCRIPTION:Ore 9.00    Ufficio delle Letture e Lodi mattutine in canto \nOre 21.00  Veglia Pasquale nella santa notte della Risurrezione: benedizione del fuoco e del cero – processione della luce – annuncio della Pasqua – Liturgia della Parola\, Battesimale\, eucaristica. \nCelebrazioni presiedute dal Cardinale Arcivescovo
URL:https://www.duomofirenze.it/event/sabato-santo/
CATEGORIES:Celebrazioni
ATTACH;FMTTYPE=image/jpeg:https://www.duomofirenze.it/wp-content/uploads/2023/03/cathedral-of-florence-2976627.jpg
END:VEVENT
BEGIN:VEVENT
DTSTART;VALUE=DATE:20240329
DTEND;VALUE=DATE:20240330
DTSTAMP:20260423T201347
CREATED:20240304T144234Z
LAST-MODIFIED:20240304T144658Z
UID:3240-1711670400-1711756799@www.duomofirenze.it
SUMMARY:Venerdì Santo
DESCRIPTION:Ore 9.00    Ufficio delle Letture e Lodi mattutine in canto \nOre 17.30  Azione Liturgica nella Passione e Morte del Signore con: proclamazione della “Passione” -adorazione della Croce- Comunione eucaristica\nOggi si effettua la raccolta per i Luoghi della Palestina \nCelebrazioni presiedute dal Cardinale Arcivescovo
URL:https://www.duomofirenze.it/event/venerdi-santo/
CATEGORIES:Celebrazioni
ATTACH;FMTTYPE=image/jpeg:https://www.duomofirenze.it/wp-content/uploads/2023/03/Cristo.jpg
END:VEVENT
BEGIN:VEVENT
DTSTART;VALUE=DATE:20240328
DTEND;VALUE=DATE:20240329
DTSTAMP:20260423T201347
CREATED:20240304T144030Z
LAST-MODIFIED:20240304T144605Z
UID:3237-1711584000-1711670399@www.duomofirenze.it
SUMMARY:Giovedì Santo
DESCRIPTION:Ore 9.30    Concelebrazione del Presbiterio\, consacrazione e benedizione degli oli\, rinnovazione delle promesse sacerdotali \nOre 17.30   S. Messa concelebrata “nelle Cena del Signore”\, con lavanda dei piedi e reposizione eucaristica.\nLa Cattedrale rimane aperta fino alle ore 23.00 per l’adorazione \n  \nCelebrazioni presiedute dal Cardinale Arcivescovo
URL:https://www.duomofirenze.it/event/giovedi-santo/
CATEGORIES:Celebrazioni
ATTACH;FMTTYPE=image/jpeg:https://www.duomofirenze.it/wp-content/uploads/2023/03/Lavanda_dei_piedi.jpg
END:VEVENT
BEGIN:VEVENT
DTSTART;VALUE=DATE:20240324
DTEND;VALUE=DATE:20240325
DTSTAMP:20260423T201347
CREATED:20240304T143249Z
LAST-MODIFIED:20240304T144612Z
UID:3230-1711238400-1711324799@www.duomofirenze.it
SUMMARY:Domenica delle Palme
DESCRIPTION:Ore 10.15  In Battistero: benedizione e processione con i rami \nOre 10.30  In Cattedrale: concelebrazione eucaristica \nOre 17.15   Vespri cantati \nOre 18.00  S. Messa. \nCelebrazioni presiedute dal Cardinale Arcivescovo
URL:https://www.duomofirenze.it/event/domenica-delle-palme-23-marzo/
CATEGORIES:Celebrazioni
ATTACH;FMTTYPE=image/jpeg:https://www.duomofirenze.it/wp-content/uploads/2023/03/domenica_delle_palme.jpg
END:VEVENT
BEGIN:VEVENT
DTSTART;VALUE=DATE:20231208
DTEND;VALUE=DATE:20231209
DTSTAMP:20260423T201347
CREATED:20231127T143833Z
LAST-MODIFIED:20231127T143908Z
UID:3186-1701993600-1702079999@www.duomofirenze.it
SUMMARY:Venerdì 8 dicembre Immacolata Concezione della B.V. Maria
DESCRIPTION:VENERDì 8 DICEMBRE \nOre 10.00 – Lodi mattutine \nOre 10.30 – S. Messa\, presiede il Cardinale Arcivescovo. \nOre 17.15 – Vespri cantati \nOre 18.00 – S. Messa
URL:https://www.duomofirenze.it/event/venerdi-8-dicembre-immacolata-concezione-della-b-v-maria/
CATEGORIES:Celebrazioni
ATTACH;FMTTYPE=image/jpeg:https://www.duomofirenze.it/wp-content/uploads/2023/11/avvento_duomofirenze.jpg
END:VEVENT
BEGIN:VEVENT
DTSTART;VALUE=DATE:20231205
DTEND;VALUE=DATE:20231206
DTSTAMP:20260423T201347
CREATED:20231127T143538Z
LAST-MODIFIED:20231127T144229Z
UID:3182-1701734400-1701820799@www.duomofirenze.it
SUMMARY:Martedì 5 dicembre
DESCRIPTION:MARTEDì 5 DICEMBRE \nOre   8.00 – Ufficio delle letture e lodi mattutine \nOre   8.30 – S. Messa capitolare \nEsposizione e adorazione all’altare del SS.mo Sacramento fino alle 12 – SS. Messe alle ore 10.00 \nOre 15.30 – Esposizione ed adorazione \nOre 17.15 – Vespri cantati – Benedizione Eucaristica \nOre 18.00 – S. Messa
URL:https://www.duomofirenze.it/event/martedi-5-dicembre/
CATEGORIES:Celebrazioni
ATTACH;FMTTYPE=image/jpeg:https://www.duomofirenze.it/wp-content/uploads/2023/11/IMMACOLATACONCEZIONE.jpeg
END:VEVENT
BEGIN:VEVENT
DTSTART;VALUE=DATE:20231204
DTEND;VALUE=DATE:20231205
DTSTAMP:20260423T201347
CREATED:20231124T153054Z
LAST-MODIFIED:20231127T144729Z
UID:3141-1701648000-1701734399@www.duomofirenze.it
SUMMARY:Lunedì 4 dicembre
DESCRIPTION:LUNEDì 4 DICEMBRE \nOre   8.00 – Ufficio delle letture e lodi mattutine \nOre   8.30 – S. Messa capitolare \nEsposizione e adorazione all’altare del SS.mo Sacramento fino alle 12 – SS. Messe alle ore 10.00 \nOre 15.30 – Esposizione ed adorazione \nOre 17.15 – Vespri cantati – Benedizione Eucaristica \nOre 18.00 – S. Messa
URL:https://www.duomofirenze.it/event/lunedi-4-dicembre/
CATEGORIES:Celebrazioni
ATTACH;FMTTYPE=image/jpeg:https://www.duomofirenze.it/wp-content/uploads/2023/11/avvento_duomofirenze.jpg
END:VEVENT
BEGIN:VEVENT
DTSTART;VALUE=DATE:20231203
DTEND;VALUE=DATE:20231204
DTSTAMP:20260423T201347
CREATED:20231124T152711Z
LAST-MODIFIED:20231127T144423Z
UID:3138-1701561600-1701647999@www.duomofirenze.it
SUMMARY:Domenica 3 dicembre I° Domenica di Avvento
DESCRIPTION:3 DICEMBRE – PRIMA DOMENICA DI AVVENTO \nOre 10.00 – Lodi mattutine \nOre 10.30 – S. Messa capitolare\, processione ed esposizione \nAdorazione Eucaristica all’altare del SS.mo Sacramento fino alle 12.30 \nOre 15.30 – Esposizione ed adorazione \nOre 17.15 – Vespri cantati – Benedizione Eucaristica \nOre 18.00 – S. Messa
URL:https://www.duomofirenze.it/event/domenica-3-dicembre-i-domenica-di-avvento/
CATEGORIES:Celebrazioni
ATTACH;FMTTYPE=image/jpeg:https://www.duomofirenze.it/wp-content/uploads/2023/11/avvento_duomofirenze.jpg
END:VEVENT
BEGIN:VEVENT
DTSTART;VALUE=DATE:20231202
DTEND;VALUE=DATE:20231203
DTSTAMP:20260423T201347
CREATED:20231124T152203Z
LAST-MODIFIED:20231127T145450Z
UID:3133-1701475200-1701561599@www.duomofirenze.it
SUMMARY:Sabato 2 dicembre Ore 21.00 - Veglia di Avvento
DESCRIPTION:Ore 21.00 – Veglia di Avvento – presiede il Cardinale Arcivescovo
URL:https://www.duomofirenze.it/event/ore-21-00-veglia-di-avvento/
CATEGORIES:Celebrazioni
ATTACH;FMTTYPE=image/jpeg:https://www.duomofirenze.it/wp-content/uploads/2023/11/avvento_duomofirenze.jpg
END:VEVENT
BEGIN:VEVENT
DTSTART;VALUE=DATE:20231008
DTEND;VALUE=DATE:20231009
DTSTAMP:20260423T201347
CREATED:20231006T094928Z
LAST-MODIFIED:20231006T095421Z
UID:3120-1696723200-1696809599@www.duomofirenze.it
SUMMARY:Inizio Dell'Anno Pastorale in Cattedrale ore 18
DESCRIPTION:Domenica 8 ottobre alle ore 18.00 in Cattedrale il Cardinale Arcivescovo presiede l’Eucarestia nell’inizio dell’Anno Pastorale con il Mandato agli operatori pastorali.
URL:https://www.duomofirenze.it/event/inizio-dellanno-pastorale-in-cattedrale-ore-18/
LOCATION:firenze\, Piazza Duomo 1\, Firenze\, Italia
CATEGORIES:Celebrazioni
ATTACH;FMTTYPE=image/jpeg:https://www.duomofirenze.it/wp-content/uploads/2023/03/Santa-Maria-Del-Fiore-Esterno-3.jpg
END:VEVENT
BEGIN:VEVENT
DTSTART;VALUE=DATE:20230908
DTEND;VALUE=DATE:20230909
DTSTAMP:20260423T201347
CREATED:20230904T150447Z
LAST-MODIFIED:20230904T150500Z
UID:3117-1694131200-1694217599@www.duomofirenze.it
SUMMARY:Celebrazioni 8 Settembre 2023
DESCRIPTION:Festa della Natività della Beata Vergine Maria e anniversario della posa della 1° pietra della Cattedrale\, 8 settembre 1296 \nOre 8.00 ufficio di Lettura e lodi:\nOre 8.30 S. Messa celebrata dal Cardinale Arcivescovo
URL:https://www.duomofirenze.it/event/celebrazioni-8-settembre-2023/
LOCATION:firenze\, Piazza Duomo 1\, Firenze\, Italia
CATEGORIES:Celebrazioni
ATTACH;FMTTYPE=image/jpeg:https://www.duomofirenze.it/wp-content/uploads/2023/03/Santa-Maria-Del-Fiore-Esterno-scaled.jpg
END:VEVENT
BEGIN:VEVENT
DTSTART;VALUE=DATE:20230624
DTEND;VALUE=DATE:20230625
DTSTAMP:20260423T201347
CREATED:20230622T101122Z
LAST-MODIFIED:20230622T133759Z
UID:3091-1687564800-1687651199@www.duomofirenze.it
SUMMARY:Solennità di San Giovanni Battista: Concelebrazione Eucaristica ore 10.30
DESCRIPTION:In Cattedrale.\nConcelebrazione Eucaristica alla quale partecipano i Sacerdoti diocesani e religiosi che compiono\, nel 2023\, i giubilei e di ordinazione presbiteriale.\nPresiede il Cardinale Arcivescovo.
URL:https://www.duomofirenze.it/event/concelebrazione-eucaristica-in-cattedrale-ore-10-30/
CATEGORIES:Celebrazioni
ATTACH;FMTTYPE=image/jpeg:https://www.duomofirenze.it/wp-content/uploads/2023/03/Santa-Maria-Del-Fiore-Interno-Altare-3.jpg
END:VEVENT
BEGIN:VEVENT
DTSTART;VALUE=DATE:20230624
DTEND;VALUE=DATE:20230625
DTSTAMP:20260423T201347
CREATED:20230622T100834Z
LAST-MODIFIED:20230622T133808Z
UID:3088-1687564800-1687651199@www.duomofirenze.it
SUMMARY:Solennità di San Giovanni Battista: Canto di Terza Ore 10.00
DESCRIPTION:In Battistero.\nCanto di Terza.\n– Tradizionale offerta di ceri al Santo Patrono da parte delle autorità comunali e della Depurazione di S. Giovanni Battista.\n– Processione verso il Duomo.
URL:https://www.duomofirenze.it/event/canto-di-terza-ore-10-00/
CATEGORIES:Celebrazioni
ATTACH;FMTTYPE=image/jpeg:https://www.duomofirenze.it/wp-content/uploads/2023/03/Battistero_MosaicoLite.jpg
END:VEVENT
BEGIN:VEVENT
DTSTART;VALUE=DATE:20230608
DTEND;VALUE=DATE:20230609
DTSTAMP:20260423T201347
CREATED:20230515T093351Z
LAST-MODIFIED:20230607T152225Z
UID:3016-1686182400-1686268799@www.duomofirenze.it
SUMMARY:Corpus Domini S. Messa ore 20.30
DESCRIPTION:S. Messa ore 20.30\npresieduta dal Cardinale Arcivescovo.\nSeguirà la processione Eucaristica in Piazza S. Giovanni e Piazza Duomo
URL:https://www.duomofirenze.it/event/corpus-domini-s-messa-ore-20-30/
LOCATION:firenze\, Piazza Duomo 1\, Firenze\, Italia
CATEGORIES:Celebrazioni
ATTACH;FMTTYPE=image/jpeg:https://www.duomofirenze.it/wp-content/uploads/2023/05/CorpusDomini.jpg
END:VEVENT
BEGIN:VEVENT
DTSTART;VALUE=DATE:20230528
DTEND;VALUE=DATE:20230529
DTSTAMP:20260423T201347
CREATED:20230515T093034Z
LAST-MODIFIED:20230515T093422Z
UID:3011-1685232000-1685318399@www.duomofirenze.it
SUMMARY:Pentecoste S. Messa ore 10.30
DESCRIPTION:S. Messa Ore 10.30\nPresiede il Cardinale Arcivescovo
URL:https://www.duomofirenze.it/event/pentecoste-s-messa-ore-10-30/
LOCATION:firenze\, Piazza Duomo 1\, Firenze\, Italia
CATEGORIES:Celebrazioni
ATTACH;FMTTYPE=image/jpeg:https://www.duomofirenze.it/wp-content/uploads/2023/05/Pentecoste.jpg
END:VEVENT
BEGIN:VEVENT
DTSTART;VALUE=DATE:20230521
DTEND;VALUE=DATE:20230522
DTSTAMP:20260423T201347
CREATED:20230515T092842Z
LAST-MODIFIED:20230515T092842Z
UID:3007-1684627200-1684713599@www.duomofirenze.it
SUMMARY:Ascensione S. Messa Ore 10.30
DESCRIPTION:S. Messa Ore 10.30\nPresiede il Cardinale Arcivescovo
URL:https://www.duomofirenze.it/event/ascensione-s-messa-ore-10-30/
LOCATION:firenze\, Piazza Duomo 1\, Firenze\, Italia
CATEGORIES:Celebrazioni
ATTACH;FMTTYPE=image/jpeg:https://www.duomofirenze.it/wp-content/uploads/2023/05/Ascensione.jpg
END:VEVENT
BEGIN:VEVENT
DTSTART;VALUE=DATE:20230416
DTEND;VALUE=DATE:20230417
DTSTAMP:20260423T201347
CREATED:20230414T101049Z
LAST-MODIFIED:20230414T140128Z
UID:2987-1681603200-1681689599@www.duomofirenze.it
SUMMARY:Ordinazione Presbiteriale
DESCRIPTION:Domenica 16 Aprile ore 17 ordinazione Presbiteriale \nCattedrale di Santa Maria del Fiore\npresiede il Cardinale Arcivescovo
URL:https://www.duomofirenze.it/event/ordinazione-presbiteriale/
CATEGORIES:Celebrazioni
ATTACH;FMTTYPE=image/png:https://www.duomofirenze.it/wp-content/uploads/2023/04/ordinazioni_presbiteriali.png
END:VEVENT
END:VCALENDAR