BEGIN:VCALENDAR
VERSION:2.0
PRODID:-// - ECPv6.3.6//NONSGML v1.0//EN
CALSCALE:GREGORIAN
METHOD:PUBLISH
X-ORIGINAL-URL:https://www.duomofirenze.it
X-WR-CALDESC:Eventi per 
REFRESH-INTERVAL;VALUE=DURATION:PT1H
X-Robots-Tag:noindex
X-PUBLISHED-TTL:PT1H
BEGIN:VTIMEZONE
TZID:UTC
BEGIN:STANDARD
TZOFFSETFROM:+0000
TZOFFSETTO:+0000
TZNAME:UTC
DTSTART:20230101T000000
END:STANDARD
END:VTIMEZONE
BEGIN:VEVENT
DTSTART;VALUE=DATE:20231203
DTEND;VALUE=DATE:20231204
DTSTAMP:20260423T213723
CREATED:20231124T152711Z
LAST-MODIFIED:20231127T144423Z
UID:3138-1701561600-1701647999@www.duomofirenze.it
SUMMARY:Domenica 3 dicembre I° Domenica di Avvento
DESCRIPTION:3 DICEMBRE – PRIMA DOMENICA DI AVVENTO \nOre 10.00 – Lodi mattutine \nOre 10.30 – S. Messa capitolare\, processione ed esposizione \nAdorazione Eucaristica all’altare del SS.mo Sacramento fino alle 12.30 \nOre 15.30 – Esposizione ed adorazione \nOre 17.15 – Vespri cantati – Benedizione Eucaristica \nOre 18.00 – S. Messa
URL:https://www.duomofirenze.it/event/domenica-3-dicembre-i-domenica-di-avvento/
CATEGORIES:Celebrazioni
ATTACH;FMTTYPE=image/jpeg:https://www.duomofirenze.it/wp-content/uploads/2023/11/avvento_duomofirenze.jpg
END:VEVENT
BEGIN:VEVENT
DTSTART;VALUE=DATE:20231202
DTEND;VALUE=DATE:20231203
DTSTAMP:20260423T213723
CREATED:20231124T152203Z
LAST-MODIFIED:20231127T145450Z
UID:3133-1701475200-1701561599@www.duomofirenze.it
SUMMARY:Sabato 2 dicembre Ore 21.00 - Veglia di Avvento
DESCRIPTION:Ore 21.00 – Veglia di Avvento – presiede il Cardinale Arcivescovo
URL:https://www.duomofirenze.it/event/ore-21-00-veglia-di-avvento/
CATEGORIES:Celebrazioni
ATTACH;FMTTYPE=image/jpeg:https://www.duomofirenze.it/wp-content/uploads/2023/11/avvento_duomofirenze.jpg
END:VEVENT
BEGIN:VEVENT
DTSTART;VALUE=DATE:20231008
DTEND;VALUE=DATE:20231009
DTSTAMP:20260423T213723
CREATED:20231006T094928Z
LAST-MODIFIED:20231006T095421Z
UID:3120-1696723200-1696809599@www.duomofirenze.it
SUMMARY:Inizio Dell'Anno Pastorale in Cattedrale ore 18
DESCRIPTION:Domenica 8 ottobre alle ore 18.00 in Cattedrale il Cardinale Arcivescovo presiede l’Eucarestia nell’inizio dell’Anno Pastorale con il Mandato agli operatori pastorali.
URL:https://www.duomofirenze.it/event/inizio-dellanno-pastorale-in-cattedrale-ore-18/
LOCATION:firenze\, Piazza Duomo 1\, Firenze\, Italia
CATEGORIES:Celebrazioni
ATTACH;FMTTYPE=image/jpeg:https://www.duomofirenze.it/wp-content/uploads/2023/03/Santa-Maria-Del-Fiore-Esterno-3.jpg
END:VEVENT
BEGIN:VEVENT
DTSTART;VALUE=DATE:20230908
DTEND;VALUE=DATE:20230909
DTSTAMP:20260423T213723
CREATED:20230904T150447Z
LAST-MODIFIED:20230904T150500Z
UID:3117-1694131200-1694217599@www.duomofirenze.it
SUMMARY:Celebrazioni 8 Settembre 2023
DESCRIPTION:Festa della Natività della Beata Vergine Maria e anniversario della posa della 1° pietra della Cattedrale\, 8 settembre 1296 \nOre 8.00 ufficio di Lettura e lodi:\nOre 8.30 S. Messa celebrata dal Cardinale Arcivescovo
URL:https://www.duomofirenze.it/event/celebrazioni-8-settembre-2023/
LOCATION:firenze\, Piazza Duomo 1\, Firenze\, Italia
CATEGORIES:Celebrazioni
ATTACH;FMTTYPE=image/jpeg:https://www.duomofirenze.it/wp-content/uploads/2023/03/Santa-Maria-Del-Fiore-Esterno-scaled.jpg
END:VEVENT
BEGIN:VEVENT
DTSTART;VALUE=DATE:20230624
DTEND;VALUE=DATE:20230625
DTSTAMP:20260423T213723
CREATED:20230622T101122Z
LAST-MODIFIED:20230622T133759Z
UID:3091-1687564800-1687651199@www.duomofirenze.it
SUMMARY:Solennità di San Giovanni Battista: Concelebrazione Eucaristica ore 10.30
DESCRIPTION:In Cattedrale.\nConcelebrazione Eucaristica alla quale partecipano i Sacerdoti diocesani e religiosi che compiono\, nel 2023\, i giubilei e di ordinazione presbiteriale.\nPresiede il Cardinale Arcivescovo.
URL:https://www.duomofirenze.it/event/concelebrazione-eucaristica-in-cattedrale-ore-10-30/
CATEGORIES:Celebrazioni
ATTACH;FMTTYPE=image/jpeg:https://www.duomofirenze.it/wp-content/uploads/2023/03/Santa-Maria-Del-Fiore-Interno-Altare-3.jpg
END:VEVENT
BEGIN:VEVENT
DTSTART;VALUE=DATE:20230624
DTEND;VALUE=DATE:20230625
DTSTAMP:20260423T213723
CREATED:20230622T100834Z
LAST-MODIFIED:20230622T133808Z
UID:3088-1687564800-1687651199@www.duomofirenze.it
SUMMARY:Solennità di San Giovanni Battista: Canto di Terza Ore 10.00
DESCRIPTION:In Battistero.\nCanto di Terza.\n– Tradizionale offerta di ceri al Santo Patrono da parte delle autorità comunali e della Depurazione di S. Giovanni Battista.\n– Processione verso il Duomo.
URL:https://www.duomofirenze.it/event/canto-di-terza-ore-10-00/
CATEGORIES:Celebrazioni
ATTACH;FMTTYPE=image/jpeg:https://www.duomofirenze.it/wp-content/uploads/2023/03/Battistero_MosaicoLite.jpg
END:VEVENT
BEGIN:VEVENT
DTSTART;VALUE=DATE:20230608
DTEND;VALUE=DATE:20230609
DTSTAMP:20260423T213723
CREATED:20230515T093351Z
LAST-MODIFIED:20230607T152225Z
UID:3016-1686182400-1686268799@www.duomofirenze.it
SUMMARY:Corpus Domini S. Messa ore 20.30
DESCRIPTION:S. Messa ore 20.30\npresieduta dal Cardinale Arcivescovo.\nSeguirà la processione Eucaristica in Piazza S. Giovanni e Piazza Duomo
URL:https://www.duomofirenze.it/event/corpus-domini-s-messa-ore-20-30/
LOCATION:firenze\, Piazza Duomo 1\, Firenze\, Italia
CATEGORIES:Celebrazioni
ATTACH;FMTTYPE=image/jpeg:https://www.duomofirenze.it/wp-content/uploads/2023/05/CorpusDomini.jpg
END:VEVENT
BEGIN:VEVENT
DTSTART;VALUE=DATE:20230528
DTEND;VALUE=DATE:20230529
DTSTAMP:20260423T213723
CREATED:20230515T093034Z
LAST-MODIFIED:20230515T093422Z
UID:3011-1685232000-1685318399@www.duomofirenze.it
SUMMARY:Pentecoste S. Messa ore 10.30
DESCRIPTION:S. Messa Ore 10.30\nPresiede il Cardinale Arcivescovo
URL:https://www.duomofirenze.it/event/pentecoste-s-messa-ore-10-30/
LOCATION:firenze\, Piazza Duomo 1\, Firenze\, Italia
CATEGORIES:Celebrazioni
ATTACH;FMTTYPE=image/jpeg:https://www.duomofirenze.it/wp-content/uploads/2023/05/Pentecoste.jpg
END:VEVENT
BEGIN:VEVENT
DTSTART;VALUE=DATE:20230521
DTEND;VALUE=DATE:20230522
DTSTAMP:20260423T213723
CREATED:20230515T092842Z
LAST-MODIFIED:20230515T092842Z
UID:3007-1684627200-1684713599@www.duomofirenze.it
SUMMARY:Ascensione S. Messa Ore 10.30
DESCRIPTION:S. Messa Ore 10.30\nPresiede il Cardinale Arcivescovo
URL:https://www.duomofirenze.it/event/ascensione-s-messa-ore-10-30/
LOCATION:firenze\, Piazza Duomo 1\, Firenze\, Italia
CATEGORIES:Celebrazioni
ATTACH;FMTTYPE=image/jpeg:https://www.duomofirenze.it/wp-content/uploads/2023/05/Ascensione.jpg
END:VEVENT
BEGIN:VEVENT
DTSTART;VALUE=DATE:20230416
DTEND;VALUE=DATE:20230417
DTSTAMP:20260423T213723
CREATED:20230414T101049Z
LAST-MODIFIED:20230414T140128Z
UID:2987-1681603200-1681689599@www.duomofirenze.it
SUMMARY:Ordinazione Presbiteriale
DESCRIPTION:Domenica 16 Aprile ore 17 ordinazione Presbiteriale \nCattedrale di Santa Maria del Fiore\npresiede il Cardinale Arcivescovo
URL:https://www.duomofirenze.it/event/ordinazione-presbiteriale/
CATEGORIES:Celebrazioni
ATTACH;FMTTYPE=image/png:https://www.duomofirenze.it/wp-content/uploads/2023/04/ordinazioni_presbiteriali.png
END:VEVENT
END:VCALENDAR